BEGIN:VCALENDAR
VERSION:2.0
METHOD:PUBLISH
PRODID:- PBCS IT-News //NONSGML Events //EN
CALSCALE:GREGORIAN
X-WR-CALNAME:ICAL-BLOG
BEGIN:VEVENT
UID:c96e03fb-f7c0-41bb-b013-be3c06f9e09e
DTSTAMP:20260424T220520Z
CREATED:20260424T220520Z
SUMMARY:WLAN-Unsicherheit mit WPS-Button
DESCRIPTION:https://wp.pbcs.de/wlan-unsicherheit-mit-wps-button/ - Artikel vom: Di.\, 15. Mai 2012\, 18:15:49 - für die meisten betroffenen "Speedport" Router der Telekom gibt es mittlerweile Firmware Upgrades. Prüfen Sie\, ob Ihr Gerät betroffen ist und wenn ja\, schalten Sie nur dann WLAN ein\, wenn die Sicherheitslücke geschlossen ist. Dieser Rat gilt im Übrigen auch für Wireless LAN Router anderer Hersteller\, die von der Lücke betroffen sind. Telekom-WLAN-Router namens "Speedport" mit Sicherheitslücken: Obwohl in Firmenumgebungen aus Sicherheitsgründen niemals solche Geräte zum Einsatz kommen dürften (Im Regelfall ist die Kombination: DSL-Modem --> w.safe Firewall --> LAN die sichere Alternative)\, mag es Kunden geben\, die keinen PC oder Server als eigenständige Firewall benutzen\, sondern ihr Netz mit einem solchen Router mit dem Internet verbinden. Ist das WLAN auf einem solchen Gerät eingeschaltet\, ist das Firmennetz für alle (auch die dunklen) Gestalten im Funkbereich des Routers von außen erreichbar. Kunden mit einer solchen Konstellation sollten umgehend das Wireless LAN (auch wenn es nicht genutzt wird) ausschalten. (Post ID:727)
LOCATION:https://wp.pbcs.de
CATEGORIES:Gelbe Kategorie
TRANSP:TRANSPARENT
X-MICROSOFT-CDO-BUSYSTATUS:FREE
SEQUENCE:0
CLASS:PUBLIC
PRIORITY:1
DTSTART:20260425T070000Z
DTEND:20260425T080000Z
BEGIN:VALARM
TRIGGER:-PT30M
ACTION:DISPLAY
DESCRIPTION:Reminder for WLAN-Unsicherheit mit WPS-Button
END:VALARM
END:VEVENT
END:VCALENDAR
