BEGIN:VCALENDAR
VERSION:2.0
METHOD:PUBLISH
PRODID:- PBCS IT-News //NONSGML Events //EN
CALSCALE:GREGORIAN
X-WR-CALNAME:ICAL-BLOG
BEGIN:VEVENT
UID:513ff85f-e6f4-4c37-8099-9da9d3ddaf5e
DTSTAMP:20260424T223153Z
CREATED:20260424T223153Z
SUMMARY:Internet Explorer 9 von Microsoft veröffentlicht
DESCRIPTION:https://wp.pbcs.de/internet-explorer-9-von-microsoft-veroeffentlicht/ - Artikel vom: Di.\, 15. März 2011\, 10:19:38 - Der IE9 läßt sich auf der Plattform Windows 7 und Server 2008R2\, sowie Server 2008 einsetzen. Windows xp und Server 2003R2 werden nicht mehr unterstützt. Für diese älteren Betriebssysteme wird man beim Internet Explorer 8 bleiben müssen. Der Download kann direkt von der Microsoftseite erfolgen\, alternativ wird der IE9 auch über Windowsupdate angeboten. Die Installation dauert etwa 3-5 Minuten je nach Rechnersystem. Bei einem frisch hochgefahrenen System ist nicht einmal ein Neustart erforderlich. Der 9er ist deutlich schneller beim Webseitenaufbau und beim Ausführen von Javascript. Ausserdem wurde die Sicherheit durch Setzen von sicheren Standardeinstellungen und Sandboxing erhöht. Microsoft empfielht\, die aktuellen Betriebssysteme damit auszustatten. Für die Benutzer mit Win7-PCs und Remotedesktop/Citrix-Benutzer stellt sich eine bessere Übersichtlichkeit\, intuitiverer Bedienkomfort und der schnelle Seitenaufbau fühlbar und sichtbar dar. :8 (Post ID:695)
LOCATION:https://wp.pbcs.de
CATEGORIES:Gelbe Kategorie
TRANSP:TRANSPARENT
X-MICROSOFT-CDO-BUSYSTATUS:FREE
SEQUENCE:0
CLASS:PUBLIC
PRIORITY:1
DTSTART:20260425T070000Z
DTEND:20260425T080000Z
BEGIN:VALARM
TRIGGER:-PT30M
ACTION:DISPLAY
DESCRIPTION:Reminder for Internet Explorer 9 von Microsoft veröffentlicht
END:VALARM
END:VEVENT
END:VCALENDAR
