BEGIN:VCALENDAR
VERSION:2.0
METHOD:PUBLISH
PRODID:- PBCS IT-News //NONSGML Events //EN
CALSCALE:GREGORIAN
X-WR-CALNAME:ICAL-BLOG
BEGIN:VEVENT
UID:1039e0ff-8991-4cc7-85ff-7ab24c49bcd0
DTSTAMP:20260424T220550Z
CREATED:20260424T220550Z
SUMMARY:Datenschutzerklärung auf Ihren Webseiten Pflicht
DESCRIPTION:https://wp.pbcs.de/datenschutzerklaerung-auf-ihren-webseiten-pflicht/ - Artikel vom: So.\, 28. Oktober 2007\, 12:54:41 - Seit dem 01. März 2007 ist eine weitere Verschärfung der Gesetzeslage (im Volksmund heisst das Gesetz: Internet-Gesetz) eingetreten\, die selbst für private Webseiten eine so benannte Datenschutzerklärung vorschreibt. :N Handeln Sie und ergänzen Sie bei Bedarf Ihre Webseiten umgehend (Post ID:659)
LOCATION:https://wp.pbcs.de
CATEGORIES:Gelbe Kategorie
TRANSP:TRANSPARENT
X-MICROSOFT-CDO-BUSYSTATUS:FREE
SEQUENCE:0
CLASS:PUBLIC
PRIORITY:1
DTSTART:20260425T070000Z
DTEND:20260425T080000Z
BEGIN:VALARM
TRIGGER:-PT30M
ACTION:DISPLAY
DESCRIPTION:Reminder for Datenschutzerklärung auf Ihren Webseiten Pflicht
END:VALARM
END:VEVENT
END:VCALENDAR
