BEGIN:VCALENDAR
VERSION:2.0
METHOD:PUBLISH
PRODID:- PBCS IT-News //NONSGML Events //EN
CALSCALE:GREGORIAN
X-WR-CALNAME:ICAL-BLOG
BEGIN:VEVENT
UID:80874a43-612a-43f1-87bd-3da8c7c7929f
DTSTAMP:20260424T220535Z
CREATED:20260424T220535Z
SUMMARY:Sofortkommentare. Ihre Meinung
DESCRIPTION:https://wp.pbcs.de/sofortkommentare-ihre-meinung/ - Artikel vom: Fr.\, 20. Juli 2007\, 21:49:59 - können Sie ab sofort in der sog. Shoutbox abgeben. Dabei sind alle gängigen Smilies möglich. Sie sind für den selbst verfassten Inhalt verantwortlich\, Ihre IP-Adresse wird aufgezeichnet. Bei registrierten Benutzer wird der Name automatisch vorgegeben. (edit: 20.07.2007 20:49:42) (Post ID:654)
LOCATION:https://wp.pbcs.de
CATEGORIES:Gelbe Kategorie
TRANSP:TRANSPARENT
X-MICROSOFT-CDO-BUSYSTATUS:FREE
SEQUENCE:0
CLASS:PUBLIC
PRIORITY:1
DTSTART:20260425T070000Z
DTEND:20260425T080000Z
BEGIN:VALARM
TRIGGER:-PT30M
ACTION:DISPLAY
DESCRIPTION:Reminder for Sofortkommentare. Ihre Meinung
END:VALARM
END:VEVENT
END:VCALENDAR
