BEGIN:VCALENDAR
VERSION:2.0
METHOD:PUBLISH
PRODID:- PBCS IT-News //NONSGML Events //EN
CALSCALE:GREGORIAN
X-WR-CALNAME:ICAL-BLOG
BEGIN:VEVENT
UID:64ff9a21-07b7-4f96-b9cc-079adc071174
DTSTAMP:20260424T220505Z
CREATED:20260424T220505Z
SUMMARY:Eine neue Opera-Version 9.0
DESCRIPTION:https://wp.pbcs.de/eine-neue-opera-version-9-0/ - Artikel vom: Di.\, 20. Juni 2006\, 20:05:51 - steht beim Hersteller zum kostenlosen Download bereit. Zahlreiche Neue Features und Bugfixes\, insbesonde Verbesserung der Kompatibilität/Darstellung implementiert. Auch eine deutsche Version steht zum Download bereit. Unattended Installation ist möglich aber noch nicht getestet (Installshield) Quelle: www.opera.com (Post ID:624)
LOCATION:https://wp.pbcs.de
CATEGORIES:Gelbe Kategorie
TRANSP:TRANSPARENT
X-MICROSOFT-CDO-BUSYSTATUS:FREE
SEQUENCE:0
CLASS:PUBLIC
PRIORITY:1
DTSTART:20260425T070000Z
DTEND:20260425T080000Z
BEGIN:VALARM
TRIGGER:-PT30M
ACTION:DISPLAY
DESCRIPTION:Reminder for Eine neue Opera-Version 9.0
END:VALARM
END:VEVENT
END:VCALENDAR
