BEGIN:VCALENDAR
VERSION:2.0
METHOD:PUBLISH
PRODID:- PBCS IT-News //NONSGML Events //EN
CALSCALE:GREGORIAN
X-WR-CALNAME:ICAL-BLOG
BEGIN:VEVENT
UID:05133a48-d2c3-4efb-83ed-744d4acb6cb2
DTSTAMP:20260424T185115Z
CREATED:20260424T185115Z
SUMMARY:Forum\, Diskussion
DESCRIPTION:https://wp.pbcs.de/forum-diskussion/ - Artikel vom: Do.\, 30. März 2006\, 20:01:52 - Diskussionsforum erweitert und neu gestaltet. Diskutieren Sie mit! Hier können Sie Themen erstellen und auf Beiträge antworten. Mit Benutzer-Registrierung. Nutzt das Benutzermanagement vom Auktionssystem. Öffentlich sichtbar! Daher beachten Sie bitte\, dass Sie für Ihre hier vertretene Meinung haften. Ihre IP wird gespeichert. (edit: 30.03.2006 18:59:55) (Post ID:595)
LOCATION:https://wp.pbcs.de
CATEGORIES:Gelbe Kategorie
TRANSP:TRANSPARENT
X-MICROSOFT-CDO-BUSYSTATUS:FREE
SEQUENCE:0
CLASS:PUBLIC
PRIORITY:1
DTSTART:20260425T070000Z
DTEND:20260425T080000Z
BEGIN:VALARM
TRIGGER:-PT30M
ACTION:DISPLAY
DESCRIPTION:Reminder for Forum\, Diskussion
END:VALARM
END:VEVENT
END:VCALENDAR
