BEGIN:VCALENDAR
VERSION:2.0
METHOD:PUBLISH
PRODID:- PBCS IT-News //NONSGML Events //EN
CALSCALE:GREGORIAN
X-WR-CALNAME:ICAL-BLOG
BEGIN:VEVENT
UID:02f97d2b-69cb-482c-a3f2-e7c6ddd41ffe
DTSTAMP:20260425T014701Z
CREATED:20260425T014701Z
SUMMARY:Virenschutz Aktuelle Hinweise
DESCRIPTION:https://wp.pbcs.de/virenschutz-aktuelle-hinweise/ - Artikel vom: Sa.\, 31. Dezember 2005\, 13:21:29 - wie man sein System einigermaßen sicher vor unerwünschten Angriffen macht. Mit Detailerklärungen. (Post ID:598)
LOCATION:https://wp.pbcs.de
CATEGORIES:Gelbe Kategorie
TRANSP:TRANSPARENT
X-MICROSOFT-CDO-BUSYSTATUS:FREE
SEQUENCE:0
CLASS:PUBLIC
PRIORITY:1
DTSTART:20260425T070000Z
DTEND:20260425T080000Z
BEGIN:VALARM
TRIGGER:-PT30M
ACTION:DISPLAY
DESCRIPTION:Reminder for Virenschutz Aktuelle Hinweise
END:VALARM
END:VEVENT
END:VCALENDAR
