BEGIN:VCALENDAR
VERSION:2.0
METHOD:PUBLISH
PRODID:- PBCS IT-News //NONSGML Events //EN
CALSCALE:GREGORIAN
X-WR-CALNAME:ICAL-BLOG
BEGIN:VEVENT
UID:38ed45af-c26d-40af-851f-05ecbd871715
DTSTAMP:20260425T014725Z
CREATED:20260425T014725Z
SUMMARY:Internet-Explorer erneut angreifbar
DESCRIPTION:https://wp.pbcs.de/internet-explorer-erneut-angreifbar/ - Artikel vom: Mi.\, 28. Dezember 2005\, 17:25:48 - Keine Firewall und kein Virenscanner schützt effizient. Heise berichtet von der Möglichkeit\, ohne Zutun des Benutzers Trojaner\, Schadprogramme\, Passwortsniffer einzuschleusen. Abhilfe: Opera 8.50 deutsch verwenden\, Internet Explorer solange nicht benutzen\, bis Sicherheitslücken geschlossen! Nicht mit Admin-Rechten arbeiten\, auch nicht als Hauptbenutzer\, sondern nur mit Benutzerrechten! (Post ID:597)
LOCATION:https://wp.pbcs.de
CATEGORIES:Gelbe Kategorie
TRANSP:TRANSPARENT
X-MICROSOFT-CDO-BUSYSTATUS:FREE
SEQUENCE:0
CLASS:PUBLIC
PRIORITY:1
DTSTART:20260425T070000Z
DTEND:20260425T080000Z
BEGIN:VALARM
TRIGGER:-PT30M
ACTION:DISPLAY
DESCRIPTION:Reminder for Internet-Explorer erneut angreifbar
END:VALARM
END:VEVENT
END:VCALENDAR
