BEGIN:VCALENDAR
VERSION:2.0
METHOD:PUBLISH
PRODID:- PBCS IT-News //NONSGML Events //EN
CALSCALE:GREGORIAN
X-WR-CALNAME:ICAL-BLOG
BEGIN:VEVENT
UID:c779e319-07bb-491e-abcf-c9b383dae602
DTSTAMP:20260419T145101Z
CREATED:20260419T145101Z
SUMMARY:Website – Reisen
DESCRIPTION:https://wp.pbcs.de/website-reisen/ - Artikel vom: So.\, 21. August 2005\, 20:54:02 - Reisedatenbank mit Flugzeugtypen/Abbildungen\, Admin-Tools und Länderstatistik\, Personenauswahl\, Sortieren über Spaltenüberschrift\, Volltextsuche (edit: 09.07.2005 19:03:58\, 24.07.2005 15:30:05) (Post ID:40)
LOCATION:https://wp.pbcs.de
CATEGORIES:Gelbe Kategorie
TRANSP:TRANSPARENT
X-MICROSOFT-CDO-BUSYSTATUS:FREE
SEQUENCE:0
CLASS:PUBLIC
PRIORITY:1
DTSTART:20260416T070000Z
DTEND:20260416T080000Z
BEGIN:VALARM
TRIGGER:-PT30M
ACTION:DISPLAY
DESCRIPTION:Reminder for Website – Reisen
END:VALARM
END:VEVENT
END:VCALENDAR
